BEGIN:VCALENDAR
VERSION:2.0
PRODID:-//hacksw/handcal//NONSGML v1.0//EN
BEGIN:VEVENT
SUMMARY:Grades - Examen departemental 1er au 4eme dan
UID:64025d9a-0cd8-4fc8-9a5a-f0fdad5ef0b8
DTSTART:20260613T060000Z
DTEND:20260614T160000Z
LOCATION:Localisation   
CATEGORIES:Administratif
STATUS:
URL;VALUE=URI:https://www.kenzenkarate.fr/evenements/2026/06/13/grades-examen-departemental-1er-au-4eme-dan-2311610
END:VEVENT
END:VCALENDAR
