BEGIN:VCALENDAR
VERSION:2.0
PRODID:-//hacksw/handcal//NONSGML v1.0//EN
BEGIN:VEVENT
SUMMARY:Passage de grades Ken'Zen
UID:4eb42d21-9a26-4884-956e-06925cb254d3
DTSTART:20260617T150000Z
DTEND:20260617T193000Z
LOCATION:Localisation   
CATEGORIES:Administratif
STATUS:
URL;VALUE=URI:https://www.kenzenkarate.fr/evenements/2026/06/17/passage-de-grades-kenzen-2313361
END:VEVENT
END:VCALENDAR
